BEGIN:VCALENDAR
VERSION:2.0
PRODID:-//85.13.131.200//NONSGML kigkonsult.se iCalcreator 2.20//
CALSCALE:GREGORIAN
METHOD:PUBLISH
X-WR-TIMEZONE:Europe/Berlin
BEGIN:VEVENT
UID:event4@j6.datenablage.info
DTSTAMP:20260423T085830Z
CATEGORIES:Rock\, House
DESCRIPTION:Electronic Beats\nCategory: Rock\, House\nLink: https://www.j6.
 datenablage.info/index.php?option=com_jem&view=event&id=4:electronic-beats
 \n
DTSTART;TZID=Europe/Berlin:20260426T200000
DTEND;TZID=Europe/Berlin:20260429T200000
LOCATION:Douala\,Schubertstraße 2\,88214 Ravensburg
SUMMARY:Electronic Beats
URL:https://www.j6.datenablage.info/index.php?option=com_jem&view=event&id=
 4:electronic-beats
END:VEVENT
END:VCALENDAR