BEGIN:VCALENDAR
VERSION:2.0
PRODID:-//85.13.131.200//NONSGML kigkonsult.se iCalcreator 2.20//
CALSCALE:GREGORIAN
METHOD:PUBLISH
X-WR-TIMEZONE:Europe/Berlin
BEGIN:VEVENT
UID:event3@j6.datenablage.info
DTSTAMP:20260423T085908Z
CATEGORIES:House
DESCRIPTION:Balkan Beatz\nCategory: House\nLink: https://www.j6.datenablage
 .info/index.php?option=com_jem&view=event&id=3:balkan-beatz\n
DTSTART;TZID=Europe/Berlin:20260424T163000
DTEND;TZID=Europe/Berlin:20260428T220000
LOCATION:Kamikaze\,Oberlinden 8\,79098 Freiburg im Breisgau\,Germany
SUMMARY:Balkan Beatz
URL:https://www.j6.datenablage.info/index.php?option=com_jem&view=event&id=
 3:balkan-beatz
END:VEVENT
BEGIN:VEVENT
UID:event16@j6.datenablage.info
DTSTAMP:20260423T085908Z
CATEGORIES:House
DESCRIPTION:Balkan Beatz\nCategory: House\nLink: https://www.j6.datenablage
 .info/index.php?option=com_jem&view=event&id=16:balkan-beatz\n
DTSTART;TZID=Europe/Berlin:20260424T163000
DTEND;TZID=Europe/Berlin:20260428T220000
LOCATION:Kamikaze\,Oberlinden 8\,79098 Freiburg im Breisgau\,Germany
SUMMARY:Balkan Beatz
URL:https://www.j6.datenablage.info/index.php?option=com_jem&view=event&id=
 16:balkan-beatz
END:VEVENT
BEGIN:VEVENT
UID:event3@j6.datenablage.info
DTSTAMP:20260423T085908Z
CATEGORIES:House
DESCRIPTION:Balkan Beatz\nCategory: House\nLink: https://www.j6.datenablage
 .info/index.php?option=com_jem&view=event&id=3:balkan-beatz\n
DTSTART;TZID=Europe/Berlin:20260425T163000
DTEND;TZID=Europe/Berlin:20260428T220000
LOCATION:Kamikaze\,Oberlinden 8\,79098 Freiburg im Breisgau\,Germany
SUMMARY:Balkan Beatz
URL:https://www.j6.datenablage.info/index.php?option=com_jem&view=event&id=
 3:balkan-beatz
END:VEVENT
BEGIN:VEVENT
UID:event16@j6.datenablage.info
DTSTAMP:20260423T085908Z
CATEGORIES:House
DESCRIPTION:Balkan Beatz\nCategory: House\nLink: https://www.j6.datenablage
 .info/index.php?option=com_jem&view=event&id=16:balkan-beatz\n
DTSTART;TZID=Europe/Berlin:20260425T163000
DTEND;TZID=Europe/Berlin:20260428T220000
LOCATION:Kamikaze\,Oberlinden 8\,79098 Freiburg im Breisgau\,Germany
SUMMARY:Balkan Beatz
URL:https://www.j6.datenablage.info/index.php?option=com_jem&view=event&id=
 16:balkan-beatz
END:VEVENT
BEGIN:VEVENT
UID:event3@j6.datenablage.info
DTSTAMP:20260423T085908Z
CATEGORIES:House
DESCRIPTION:Balkan Beatz\nCategory: House\nLink: https://www.j6.datenablage
 .info/index.php?option=com_jem&view=event&id=3:balkan-beatz\n
DTSTART;TZID=Europe/Berlin:20260426T163000
DTEND;TZID=Europe/Berlin:20260428T220000
LOCATION:Kamikaze\,Oberlinden 8\,79098 Freiburg im Breisgau\,Germany
SUMMARY:Balkan Beatz
URL:https://www.j6.datenablage.info/index.php?option=com_jem&view=event&id=
 3:balkan-beatz
END:VEVENT
BEGIN:VEVENT
UID:event16@j6.datenablage.info
DTSTAMP:20260423T085908Z
CATEGORIES:House
DESCRIPTION:Balkan Beatz\nCategory: House\nLink: https://www.j6.datenablage
 .info/index.php?option=com_jem&view=event&id=16:balkan-beatz\n
DTSTART;TZID=Europe/Berlin:20260426T163000
DTEND;TZID=Europe/Berlin:20260428T220000
LOCATION:Kamikaze\,Oberlinden 8\,79098 Freiburg im Breisgau\,Germany
SUMMARY:Balkan Beatz
URL:https://www.j6.datenablage.info/index.php?option=com_jem&view=event&id=
 16:balkan-beatz
END:VEVENT
BEGIN:VEVENT
UID:event3@j6.datenablage.info
DTSTAMP:20260423T085908Z
CATEGORIES:House
DESCRIPTION:Balkan Beatz\nCategory: House\nLink: https://www.j6.datenablage
 .info/index.php?option=com_jem&view=event&id=3:balkan-beatz\n
DTSTART;TZID=Europe/Berlin:20260427T163000
DTEND;TZID=Europe/Berlin:20260428T220000
LOCATION:Kamikaze\,Oberlinden 8\,79098 Freiburg im Breisgau\,Germany
SUMMARY:Balkan Beatz
URL:https://www.j6.datenablage.info/index.php?option=com_jem&view=event&id=
 3:balkan-beatz
END:VEVENT
BEGIN:VEVENT
UID:event16@j6.datenablage.info
DTSTAMP:20260423T085908Z
CATEGORIES:House
DESCRIPTION:Balkan Beatz\nCategory: House\nLink: https://www.j6.datenablage
 .info/index.php?option=com_jem&view=event&id=16:balkan-beatz\n
DTSTART;TZID=Europe/Berlin:20260427T163000
DTEND;TZID=Europe/Berlin:20260428T220000
LOCATION:Kamikaze\,Oberlinden 8\,79098 Freiburg im Breisgau\,Germany
SUMMARY:Balkan Beatz
URL:https://www.j6.datenablage.info/index.php?option=com_jem&view=event&id=
 16:balkan-beatz
END:VEVENT
BEGIN:VEVENT
UID:event3@j6.datenablage.info
DTSTAMP:20260423T085908Z
CATEGORIES:House
DESCRIPTION:Balkan Beatz\nCategory: House\nLink: https://www.j6.datenablage
 .info/index.php?option=com_jem&view=event&id=3:balkan-beatz\n
DTSTART;TZID=Europe/Berlin:20260428T163000
DTEND;TZID=Europe/Berlin:20260428T220000
LOCATION:Kamikaze\,Oberlinden 8\,79098 Freiburg im Breisgau\,Germany
SUMMARY:Balkan Beatz
URL:https://www.j6.datenablage.info/index.php?option=com_jem&view=event&id=
 3:balkan-beatz
END:VEVENT
BEGIN:VEVENT
UID:event16@j6.datenablage.info
DTSTAMP:20260423T085908Z
CATEGORIES:House
DESCRIPTION:Balkan Beatz\nCategory: House\nLink: https://www.j6.datenablage
 .info/index.php?option=com_jem&view=event&id=16:balkan-beatz\n
DTSTART;TZID=Europe/Berlin:20260428T163000
DTEND;TZID=Europe/Berlin:20260428T220000
LOCATION:Kamikaze\,Oberlinden 8\,79098 Freiburg im Breisgau\,Germany
SUMMARY:Balkan Beatz
URL:https://www.j6.datenablage.info/index.php?option=com_jem&view=event&id=
 16:balkan-beatz
END:VEVENT
END:VCALENDAR